BEGIN:VCALENDAR
VERSION:2.0
PRODID:-//European Council for Steiner Waldorf Education - ECPv6.15.20//NONSGML v1.0//EN
CALSCALE:GREGORIAN
METHOD:PUBLISH
X-ORIGINAL-URL:https://ecswe.eu
X-WR-CALDESC:Events for European Council for Steiner Waldorf Education
REFRESH-INTERVAL;VALUE=DURATION:PT1H
X-Robots-Tag:noindex
X-PUBLISHED-TTL:PT1H
BEGIN:VTIMEZONE
TZID:Europe/Brussels
BEGIN:DAYLIGHT
TZOFFSETFROM:+0100
TZOFFSETTO:+0200
TZNAME:CEST
DTSTART:20240331T010000
END:DAYLIGHT
BEGIN:STANDARD
TZOFFSETFROM:+0200
TZOFFSETTO:+0100
TZNAME:CET
DTSTART:20241027T010000
END:STANDARD
BEGIN:DAYLIGHT
TZOFFSETFROM:+0100
TZOFFSETTO:+0200
TZNAME:CEST
DTSTART:20250330T010000
END:DAYLIGHT
BEGIN:STANDARD
TZOFFSETFROM:+0200
TZOFFSETTO:+0100
TZNAME:CET
DTSTART:20251026T010000
END:STANDARD
BEGIN:DAYLIGHT
TZOFFSETFROM:+0100
TZOFFSETTO:+0200
TZNAME:CEST
DTSTART:20260329T010000
END:DAYLIGHT
BEGIN:STANDARD
TZOFFSETFROM:+0200
TZOFFSETTO:+0100
TZNAME:CET
DTSTART:20261025T010000
END:STANDARD
BEGIN:DAYLIGHT
TZOFFSETFROM:+0100
TZOFFSETTO:+0200
TZNAME:CEST
DTSTART:20270328T010000
END:DAYLIGHT
BEGIN:STANDARD
TZOFFSETFROM:+0200
TZOFFSETTO:+0100
TZNAME:CET
DTSTART:20271031T010000
END:STANDARD
END:VTIMEZONE
BEGIN:VEVENT
DTSTART;VALUE=DATE:20251104
DTEND;VALUE=DATE:20260616
DTSTAMP:20260425T052951
CREATED:20251030T120216Z
LAST-MODIFIED:20251030T120822Z
UID:7491-1762214400-1781567999@ecswe.eu
SUMMARY:Media Maturity in Education: The HERMMES learning journey
DESCRIPTION:Register now\nMedia Maturity in Education: The HERMMES learning journey\n\nThe online train­ing on Media Matu­ri­ty in Edu­ca­tion: The HERMMES learn­ing jour­ney is meant for teach­ers\, par­ents\, school lead­ers\, ped­a­gog­i­cal advi­sors and all who are won­der­ing how to find the bal­ance between the use of dig­i­tal tools for learn­ing and pro­tect­ing chil­dren and young peo­ple from dig­i­tal risks. \nAn age-appro­pri­ate approach to dig­i­tal media edu­ca­tion for learn­ers from 0 to 18 years will be addressed in the train­ing and insights will be giv­en into the HERMMES (Holis­tic Edu­ca­tion\, Resilience and Media Matu­ri­ty in Edu­ca­tion­al Set­tings) approach to dig­i­tal media education. \nThe learn­ing jour­ney con­sists of self-paced lessons and 8 online meet­ings in real-time\, start­ing on 4 Novem­ber 2025 and end­ing on 15 June 2026. \nCer­tifi­cates will be avail­able for all who fin­ish the training. \n  \nReg­is­ter\nDown­load invitation\nVis­it train­ing page
URL:https://ecswe.eu/event/media-maturity-in-education-the-hermmes-learning-journey/
LOCATION:online
ATTACH;FMTTYPE=image/jpeg:https://ecswe.eu/wp-content/uploads/2025/10/Learning-journey-graphic.jpeg
ORGANIZER;CN="H E R M M E S":MAILTO:hermmes@ecswe.eu
END:VEVENT
END:VCALENDAR